BEGIN:VCALENDAR
VERSION:2.0
PRODID:-//Town of Beverly - ECPv6.15.20//NONSGML v1.0//EN
CALSCALE:GREGORIAN
METHOD:PUBLISH
X-WR-CALNAME:Town of Beverly
X-ORIGINAL-URL:https://townofbeverly.com
X-WR-CALDESC:Events for Town of Beverly
REFRESH-INTERVAL;VALUE=DURATION:PT1H
X-Robots-Tag:noindex
X-PUBLISHED-TTL:PT1H
BEGIN:VTIMEZONE
TZID:UTC
BEGIN:STANDARD
TZOFFSETFROM:+0000
TZOFFSETTO:+0000
TZNAME:UTC
DTSTART:20250101T000000
END:STANDARD
END:VTIMEZONE
BEGIN:VEVENT
DTSTART;TZID=UTC:20260418T173000
DTEND;TZID=UTC:20260418T193000
DTSTAMP:20260421T102001
CREATED:20260327T124645Z
LAST-MODIFIED:20260327T124645Z
UID:1481-1776533400-1776540600@townofbeverly.com
SUMMARY:“Live in the Lodge with Grayson Samples”
DESCRIPTION:Free live music in the IOOF Building. A Blend of Bluegrass and country for a unique Appalachian sound.
URL:https://townofbeverly.com/event/live-in-the-lodge-with-grayson-samples/
LOCATION:IOOF Building\, 718 Main St\,\, Beverly\, WV\, 26253\, United States
CATEGORIES:Events
END:VEVENT
BEGIN:VEVENT
DTSTART;TZID=UTC:20260328T160000
DTEND;TZID=UTC:20260328T173000
DTSTAMP:20260421T102001
CREATED:20260327T124449Z
LAST-MODIFIED:20260327T124507Z
UID:1478-1774713600-1774719000@townofbeverly.com
SUMMARY:“Songs and Stories of American Independence”
DESCRIPTION:“Songs and Stories of American Independence” with performer Matthew Dodd at the IOOF Building. He dresses in time period clothing and plays songs popular during the late 1700s. All ages welcome.
URL:https://townofbeverly.com/event/songs-and-stories-of-american-independence/
LOCATION:IOOF Building\, 718 Main St\,\, Beverly\, WV\, 26253\, United States
CATEGORIES:Events
END:VEVENT
END:VCALENDAR