BEGIN:VCALENDAR
VERSION:2.0
PRODID:-//Town of Beverly - ECPv6.15.20//NONSGML v1.0//EN
CALSCALE:GREGORIAN
METHOD:PUBLISH
X-ORIGINAL-URL:https://townofbeverly.com
X-WR-CALDESC:Events for Town of Beverly
REFRESH-INTERVAL;VALUE=DURATION:PT1H
X-Robots-Tag:noindex
X-PUBLISHED-TTL:PT1H
BEGIN:VTIMEZONE
TZID:UTC
BEGIN:STANDARD
TZOFFSETFROM:+0000
TZOFFSETTO:+0000
TZNAME:UTC
DTSTART:20230101T000000
END:STANDARD
END:VTIMEZONE
BEGIN:VEVENT
DTSTART;TZID=UTC:20241207T080000
DTEND;TZID=UTC:20241207T110000
DTSTAMP:20260423T154324
CREATED:20241204T173447Z
LAST-MODIFIED:20241204T173447Z
UID:1345-1733558400-1733569200@townofbeverly.com
SUMMARY:Breakfast with Santa
DESCRIPTION:
URL:https://townofbeverly.com/event/breakfast-with-santa/
LOCATION:Beverly Fire Hall\, 429 Main Street\, Beverly\, WV\, 26253\, United States
END:VEVENT
BEGIN:VEVENT
DTSTART;TZID=UTC:20241207T110000
DTEND;TZID=UTC:20241207T180000
DTSTAMP:20260423T154324
CREATED:20241119T141315Z
LAST-MODIFIED:20241119T141315Z
UID:1245-1733569200-1733594400@townofbeverly.com
SUMMARY:Beverly Old-Fashioned Christmas
DESCRIPTION:Bring out the children and experience a Beverly Old-Fashioned Christmas at the Beverly Heritage Center. Crafts\, games and maybe a visit from Santa Claus. Vendors and light snacks will be provided. The Christmas tree lighting will take place at 5 pm in the town square.
URL:https://townofbeverly.com/event/beverly-old-fashioned-christmas/
LOCATION:Beverly Heritage Center\, 4 Court Street\, Beverly\, WV\, 26253\, United States
CATEGORIES:Events
ORGANIZER;CN="Beverly Heritage Center":MAILTO:info@beverlyheritagecenter.org
END:VEVENT
BEGIN:VEVENT
DTSTART;TZID=UTC:20241209T183000
DTEND;TZID=UTC:20241209T193000
DTSTAMP:20260423T154324
CREATED:20241119T141753Z
LAST-MODIFIED:20241204T175351Z
UID:1247-1733769000-1733772600@townofbeverly.com
SUMMARY:Council Meeting
DESCRIPTION:
URL:https://townofbeverly.com/event/council-meeting/
LOCATION:Beverly Town Hall\, 5 Walnut Ave\, Beverly\, WV\, 26253\, United States
CATEGORIES:Meetings
END:VEVENT
BEGIN:VEVENT
DTSTART;TZID=UTC:20241212T183000
DTEND;TZID=UTC:20241212T203000
DTSTAMP:20260423T154324
CREATED:20241119T142110Z
LAST-MODIFIED:20241119T142356Z
UID:1272-1734028200-1734035400@townofbeverly.com
SUMMARY:Water Board Meeting
DESCRIPTION:
URL:https://townofbeverly.com/event/water-board-meeting/2024-12-12/
LOCATION:Beverly Town Hall\, 5 Walnut Ave\, Beverly\, WV\, 26253\, United States
CATEGORIES:Meetings
END:VEVENT
BEGIN:VEVENT
DTSTART;TZID=UTC:20241212T183000
DTEND;TZID=UTC:20241212T203000
DTSTAMP:20260423T154324
CREATED:20241119T142236Z
LAST-MODIFIED:20241119T142236Z
UID:1297-1734028200-1734035400@townofbeverly.com
SUMMARY:Sewer Board Meeting
DESCRIPTION:
URL:https://townofbeverly.com/event/sewer-board-meeting/2024-12-12/
LOCATION:Beverly Town Hall\, 5 Walnut Ave\, Beverly\, WV\, 26253\, United States
CATEGORIES:Meetings
END:VEVENT
BEGIN:VEVENT
DTSTART;VALUE=DATE:20241224
DTEND;VALUE=DATE:20241225
DTSTAMP:20260423T154324
CREATED:20240424T123931Z
LAST-MODIFIED:20240424T123931Z
UID:1028-1734998400-1735084799@townofbeverly.com
SUMMARY:Christmas Eve - Holiday
DESCRIPTION:Closed for Christmas Eve
URL:https://townofbeverly.com/event/christmas-eve-holiday/
LOCATION:WV
END:VEVENT
BEGIN:VEVENT
DTSTART;VALUE=DATE:20241225
DTEND;VALUE=DATE:20241226
DTSTAMP:20260423T154324
CREATED:20240424T124055Z
LAST-MODIFIED:20240424T124055Z
UID:1030-1735084800-1735171199@townofbeverly.com
SUMMARY:Christmas - Holiday
DESCRIPTION:Christmas Day – Enjoy time with family and don’t forget the reason for the season!
URL:https://townofbeverly.com/event/christmas-holiday/
LOCATION:WV
END:VEVENT
END:VCALENDAR