BEGIN:VCALENDAR
VERSION:2.0
PRODID:-//Town of Beverly - ECPv6.15.20//NONSGML v1.0//EN
CALSCALE:GREGORIAN
METHOD:PUBLISH
X-ORIGINAL-URL:https://townofbeverly.com
X-WR-CALDESC:Events for Town of Beverly
REFRESH-INTERVAL;VALUE=DURATION:PT1H
X-Robots-Tag:noindex
X-PUBLISHED-TTL:PT1H
BEGIN:VTIMEZONE
TZID:UTC
BEGIN:STANDARD
TZOFFSETFROM:+0000
TZOFFSETTO:+0000
TZNAME:UTC
DTSTART:20250101T000000
END:STANDARD
END:VTIMEZONE
BEGIN:VEVENT
DTSTART;TZID=UTC:20260219T173000
DTEND;TZID=UTC:20260219T200000
DTSTAMP:20260424T104424
CREATED:20260218T181612Z
LAST-MODIFIED:20260218T181612Z
UID:1465-1771522200-1771531200@townofbeverly.com
SUMMARY:Game Night at the Beverly Heritage Center
DESCRIPTION:Free fun and family friendly!  Bring a friend and a game or use one of ours! \n5:30pm to 8:00pm \nThursday\, February 19\, 2026 \nGo to Beverly Heritage Center Facebook page for more details \n 
URL:https://townofbeverly.com/event/game-night-at-the-beverly-heritage-center/
LOCATION:WV
CATEGORIES:Events
END:VEVENT
END:VCALENDAR