BEGIN:VCALENDAR
VERSION:2.0
PRODID:-//Town of Beverly - ECPv6.15.20//NONSGML v1.0//EN
CALSCALE:GREGORIAN
METHOD:PUBLISH
X-ORIGINAL-URL:https://townofbeverly.com
X-WR-CALDESC:Events for Town of Beverly
REFRESH-INTERVAL;VALUE=DURATION:PT1H
X-Robots-Tag:noindex
X-PUBLISHED-TTL:PT1H
BEGIN:VTIMEZONE
TZID:UTC
BEGIN:STANDARD
TZOFFSETFROM:+0000
TZOFFSETTO:+0000
TZNAME:UTC
DTSTART:20240101T000000
END:STANDARD
END:VTIMEZONE
BEGIN:VEVENT
DTSTART;TZID=UTC:20251031T180000
DTEND;TZID=UTC:20251031T200000
DTSTAMP:20260424T042041
CREATED:20250926T154437Z
LAST-MODIFIED:20250926T154437Z
UID:1441-1761933600-1761940800@townofbeverly.com
SUMMARY:Trick-or-Treat
DESCRIPTION:Friday\, October 31st from 6:00pm to 8:00pm
URL:https://townofbeverly.com/event/trick-or-treat/
LOCATION:WV
CATEGORIES:Events
END:VEVENT
END:VCALENDAR